BEGIN:VCALENDAR
VERSION:2.0
PRODID:-//Epping Forest - ECPv6.15.20//NONSGML v1.0//EN
CALSCALE:GREGORIAN
METHOD:PUBLISH
X-WR-CALNAME:Epping Forest
X-ORIGINAL-URL:https://eppingforest.com
X-WR-CALDESC:Events for Epping Forest
REFRESH-INTERVAL;VALUE=DURATION:PT1H
X-Robots-Tag:noindex
X-PUBLISHED-TTL:PT1H
BEGIN:VTIMEZONE
TZID:America/New_York
BEGIN:DAYLIGHT
TZOFFSETFROM:-0500
TZOFFSETTO:-0400
TZNAME:EDT
DTSTART:20250309T070000
END:DAYLIGHT
BEGIN:STANDARD
TZOFFSETFROM:-0400
TZOFFSETTO:-0500
TZNAME:EST
DTSTART:20251102T060000
END:STANDARD
BEGIN:DAYLIGHT
TZOFFSETFROM:-0500
TZOFFSETTO:-0400
TZNAME:EDT
DTSTART:20260308T070000
END:DAYLIGHT
BEGIN:STANDARD
TZOFFSETFROM:-0400
TZOFFSETTO:-0500
TZNAME:EST
DTSTART:20261101T060000
END:STANDARD
BEGIN:DAYLIGHT
TZOFFSETFROM:-0500
TZOFFSETTO:-0400
TZNAME:EDT
DTSTART:20270314T070000
END:DAYLIGHT
BEGIN:STANDARD
TZOFFSETFROM:-0400
TZOFFSETTO:-0500
TZNAME:EST
DTSTART:20271107T060000
END:STANDARD
END:VTIMEZONE
BEGIN:VEVENT
DTSTART;TZID=America/New_York:20260426T100000
DTEND;TZID=America/New_York:20260426T110000
DTSTAMP:20260423T090834
CREATED:20260316T235321Z
LAST-MODIFIED:20260316T235504Z
UID:5930-1777197600-1777201200@eppingforest.com
SUMMARY:EF Chapel Service
DESCRIPTION:Non-denominational service on the second and fourth Sundays of the month. All are welcome
URL:https://eppingforest.com/event/ef-chapel-service-38/
LOCATION:EF Chapel
CATEGORIES:Chapel
END:VEVENT
BEGIN:VEVENT
DTSTART;TZID=America/New_York:20260626T000000
DTEND;TZID=America/New_York:20260628T235959
DTSTAMP:20260423T090834
CREATED:20250814T100823Z
LAST-MODIFIED:20250814T100829Z
UID:5037-1782432000-1782691199@eppingforest.com
SUMMARY:EF100 Celebration
DESCRIPTION:save the date! \n\n\n\nFriday – Welcome happy hour! \n\n\n\nSaturday – Main party!
URL:https://eppingforest.com/event/ef100-celebration/
END:VEVENT
END:VCALENDAR